BEGIN:VCALENDAR
VERSION:2.0
PRODID:-//Power of Compassion - ECPv6.15.20//NONSGML v1.0//EN
CALSCALE:GREGORIAN
METHOD:PUBLISH
X-WR-CALNAME:Power of Compassion
X-ORIGINAL-URL:https://powerofcompassion.org
X-WR-CALDESC:Events for Power of Compassion
REFRESH-INTERVAL;VALUE=DURATION:PT1H
X-Robots-Tag:noindex
X-PUBLISHED-TTL:PT1H
BEGIN:VTIMEZONE
TZID:America/Chicago
BEGIN:DAYLIGHT
TZOFFSETFROM:-0600
TZOFFSETTO:-0500
TZNAME:CDT
DTSTART:20250309T080000
END:DAYLIGHT
BEGIN:STANDARD
TZOFFSETFROM:-0500
TZOFFSETTO:-0600
TZNAME:CST
DTSTART:20251102T070000
END:STANDARD
BEGIN:DAYLIGHT
TZOFFSETFROM:-0600
TZOFFSETTO:-0500
TZNAME:CDT
DTSTART:20260308T080000
END:DAYLIGHT
BEGIN:STANDARD
TZOFFSETFROM:-0500
TZOFFSETTO:-0600
TZNAME:CST
DTSTART:20261101T070000
END:STANDARD
BEGIN:DAYLIGHT
TZOFFSETFROM:-0600
TZOFFSETTO:-0500
TZNAME:CDT
DTSTART:20270314T080000
END:DAYLIGHT
BEGIN:STANDARD
TZOFFSETFROM:-0500
TZOFFSETTO:-0600
TZNAME:CST
DTSTART:20271107T070000
END:STANDARD
BEGIN:DAYLIGHT
TZOFFSETFROM:-0600
TZOFFSETTO:-0500
TZNAME:CDT
DTSTART:20280312T080000
END:DAYLIGHT
BEGIN:STANDARD
TZOFFSETFROM:-0500
TZOFFSETTO:-0600
TZNAME:CST
DTSTART:20281105T070000
END:STANDARD
END:VTIMEZONE
BEGIN:VEVENT
DTSTART;TZID=America/Chicago:20260422T190000
DTEND;TZID=America/Chicago:20260422T203000
DTSTAMP:20260420T051342
CREATED:20210210T004459Z
LAST-MODIFIED:20230112T214610Z
UID:10000428-1776884400-1776889800@powerofcompassion.org
SUMMARY:Heights Area/Houston: NVC Practice Group
DESCRIPTION:This peer-led study and practice group has been meeting since 2009.  It is open to everyone with a fundamental understanding of NVC\, by having read the book Nonviolent Communication: A Language of Life\, or who has attended an NVC weekend workshop. They meet every other week on Wednesdays in person and by Zoom from 7:00 p.m. – 8:30 p.m CT. \nPlease contact Heights NVC for the current meeting schedule and location.
URL:https://powerofcompassion.org/event/heights-area-houston-empathy-practice-group-moved-to-zoom-temporarily-sabrina-mahmood-3/2026-04-22/
END:VEVENT
BEGIN:VEVENT
DTSTART;TZID=America/Chicago:20260506T190000
DTEND;TZID=America/Chicago:20260506T203000
DTSTAMP:20260420T051342
CREATED:20210210T004459Z
LAST-MODIFIED:20230112T214610Z
UID:10000429-1778094000-1778099400@powerofcompassion.org
SUMMARY:Heights Area/Houston: NVC Practice Group
DESCRIPTION:This peer-led study and practice group has been meeting since 2009.  It is open to everyone with a fundamental understanding of NVC\, by having read the book Nonviolent Communication: A Language of Life\, or who has attended an NVC weekend workshop. They meet every other week on Wednesdays in person and by Zoom from 7:00 p.m. – 8:30 p.m CT. \nPlease contact Heights NVC for the current meeting schedule and location.
URL:https://powerofcompassion.org/event/heights-area-houston-empathy-practice-group-moved-to-zoom-temporarily-sabrina-mahmood-3/2026-05-06/
END:VEVENT
BEGIN:VEVENT
DTSTART;TZID=America/Chicago:20260520T190000
DTEND;TZID=America/Chicago:20260520T203000
DTSTAMP:20260420T051342
CREATED:20210210T004459Z
LAST-MODIFIED:20230112T214610Z
UID:10000430-1779303600-1779309000@powerofcompassion.org
SUMMARY:Heights Area/Houston: NVC Practice Group
DESCRIPTION:This peer-led study and practice group has been meeting since 2009.  It is open to everyone with a fundamental understanding of NVC\, by having read the book Nonviolent Communication: A Language of Life\, or who has attended an NVC weekend workshop. They meet every other week on Wednesdays in person and by Zoom from 7:00 p.m. – 8:30 p.m CT. \nPlease contact Heights NVC for the current meeting schedule and location.
URL:https://powerofcompassion.org/event/heights-area-houston-empathy-practice-group-moved-to-zoom-temporarily-sabrina-mahmood-3/2026-05-20/
END:VEVENT
BEGIN:VEVENT
DTSTART;TZID=America/Chicago:20260603T190000
DTEND;TZID=America/Chicago:20260603T203000
DTSTAMP:20260420T051342
CREATED:20210210T004459Z
LAST-MODIFIED:20230112T214610Z
UID:10000431-1780513200-1780518600@powerofcompassion.org
SUMMARY:Heights Area/Houston: NVC Practice Group
DESCRIPTION:This peer-led study and practice group has been meeting since 2009.  It is open to everyone with a fundamental understanding of NVC\, by having read the book Nonviolent Communication: A Language of Life\, or who has attended an NVC weekend workshop. They meet every other week on Wednesdays in person and by Zoom from 7:00 p.m. – 8:30 p.m CT. \nPlease contact Heights NVC for the current meeting schedule and location.
URL:https://powerofcompassion.org/event/heights-area-houston-empathy-practice-group-moved-to-zoom-temporarily-sabrina-mahmood-3/2026-06-03/
END:VEVENT
BEGIN:VEVENT
DTSTART;TZID=America/Chicago:20260617T190000
DTEND;TZID=America/Chicago:20260617T203000
DTSTAMP:20260420T051342
CREATED:20210210T004459Z
LAST-MODIFIED:20230112T214610Z
UID:10000432-1781722800-1781728200@powerofcompassion.org
SUMMARY:Heights Area/Houston: NVC Practice Group
DESCRIPTION:This peer-led study and practice group has been meeting since 2009.  It is open to everyone with a fundamental understanding of NVC\, by having read the book Nonviolent Communication: A Language of Life\, or who has attended an NVC weekend workshop. They meet every other week on Wednesdays in person and by Zoom from 7:00 p.m. – 8:30 p.m CT. \nPlease contact Heights NVC for the current meeting schedule and location.
URL:https://powerofcompassion.org/event/heights-area-houston-empathy-practice-group-moved-to-zoom-temporarily-sabrina-mahmood-3/2026-06-17/
END:VEVENT
BEGIN:VEVENT
DTSTART;TZID=America/Chicago:20260701T190000
DTEND;TZID=America/Chicago:20260701T203000
DTSTAMP:20260420T051342
CREATED:20210210T004459Z
LAST-MODIFIED:20230112T214610Z
UID:10000433-1782932400-1782937800@powerofcompassion.org
SUMMARY:Heights Area/Houston: NVC Practice Group
DESCRIPTION:This peer-led study and practice group has been meeting since 2009.  It is open to everyone with a fundamental understanding of NVC\, by having read the book Nonviolent Communication: A Language of Life\, or who has attended an NVC weekend workshop. They meet every other week on Wednesdays in person and by Zoom from 7:00 p.m. – 8:30 p.m CT. \nPlease contact Heights NVC for the current meeting schedule and location.
URL:https://powerofcompassion.org/event/heights-area-houston-empathy-practice-group-moved-to-zoom-temporarily-sabrina-mahmood-3/2026-07-01/
END:VEVENT
BEGIN:VEVENT
DTSTART;TZID=America/Chicago:20260715T190000
DTEND;TZID=America/Chicago:20260715T203000
DTSTAMP:20260420T051342
CREATED:20210210T004459Z
LAST-MODIFIED:20230112T214610Z
UID:10000434-1784142000-1784147400@powerofcompassion.org
SUMMARY:Heights Area/Houston: NVC Practice Group
DESCRIPTION:This peer-led study and practice group has been meeting since 2009.  It is open to everyone with a fundamental understanding of NVC\, by having read the book Nonviolent Communication: A Language of Life\, or who has attended an NVC weekend workshop. They meet every other week on Wednesdays in person and by Zoom from 7:00 p.m. – 8:30 p.m CT. \nPlease contact Heights NVC for the current meeting schedule and location.
URL:https://powerofcompassion.org/event/heights-area-houston-empathy-practice-group-moved-to-zoom-temporarily-sabrina-mahmood-3/2026-07-15/
END:VEVENT
BEGIN:VEVENT
DTSTART;TZID=America/Chicago:20260729T190000
DTEND;TZID=America/Chicago:20260729T203000
DTSTAMP:20260420T051342
CREATED:20210210T004459Z
LAST-MODIFIED:20230112T214610Z
UID:10000435-1785351600-1785357000@powerofcompassion.org
SUMMARY:Heights Area/Houston: NVC Practice Group
DESCRIPTION:This peer-led study and practice group has been meeting since 2009.  It is open to everyone with a fundamental understanding of NVC\, by having read the book Nonviolent Communication: A Language of Life\, or who has attended an NVC weekend workshop. They meet every other week on Wednesdays in person and by Zoom from 7:00 p.m. – 8:30 p.m CT. \nPlease contact Heights NVC for the current meeting schedule and location.
URL:https://powerofcompassion.org/event/heights-area-houston-empathy-practice-group-moved-to-zoom-temporarily-sabrina-mahmood-3/2026-07-29/
END:VEVENT
BEGIN:VEVENT
DTSTART;TZID=America/Chicago:20260812T190000
DTEND;TZID=America/Chicago:20260812T203000
DTSTAMP:20260420T051342
CREATED:20210210T004459Z
LAST-MODIFIED:20230112T214610Z
UID:10000436-1786561200-1786566600@powerofcompassion.org
SUMMARY:Heights Area/Houston: NVC Practice Group
DESCRIPTION:This peer-led study and practice group has been meeting since 2009.  It is open to everyone with a fundamental understanding of NVC\, by having read the book Nonviolent Communication: A Language of Life\, or who has attended an NVC weekend workshop. They meet every other week on Wednesdays in person and by Zoom from 7:00 p.m. – 8:30 p.m CT. \nPlease contact Heights NVC for the current meeting schedule and location.
URL:https://powerofcompassion.org/event/heights-area-houston-empathy-practice-group-moved-to-zoom-temporarily-sabrina-mahmood-3/2026-08-12/
END:VEVENT
BEGIN:VEVENT
DTSTART;TZID=America/Chicago:20260826T190000
DTEND;TZID=America/Chicago:20260826T203000
DTSTAMP:20260420T051342
CREATED:20210210T004459Z
LAST-MODIFIED:20230112T214610Z
UID:10000437-1787770800-1787776200@powerofcompassion.org
SUMMARY:Heights Area/Houston: NVC Practice Group
DESCRIPTION:This peer-led study and practice group has been meeting since 2009.  It is open to everyone with a fundamental understanding of NVC\, by having read the book Nonviolent Communication: A Language of Life\, or who has attended an NVC weekend workshop. They meet every other week on Wednesdays in person and by Zoom from 7:00 p.m. – 8:30 p.m CT. \nPlease contact Heights NVC for the current meeting schedule and location.
URL:https://powerofcompassion.org/event/heights-area-houston-empathy-practice-group-moved-to-zoom-temporarily-sabrina-mahmood-3/2026-08-26/
END:VEVENT
BEGIN:VEVENT
DTSTART;TZID=America/Chicago:20260909T190000
DTEND;TZID=America/Chicago:20260909T203000
DTSTAMP:20260420T051342
CREATED:20210210T004459Z
LAST-MODIFIED:20230112T214610Z
UID:10000438-1788980400-1788985800@powerofcompassion.org
SUMMARY:Heights Area/Houston: NVC Practice Group
DESCRIPTION:This peer-led study and practice group has been meeting since 2009.  It is open to everyone with a fundamental understanding of NVC\, by having read the book Nonviolent Communication: A Language of Life\, or who has attended an NVC weekend workshop. They meet every other week on Wednesdays in person and by Zoom from 7:00 p.m. – 8:30 p.m CT. \nPlease contact Heights NVC for the current meeting schedule and location.
URL:https://powerofcompassion.org/event/heights-area-houston-empathy-practice-group-moved-to-zoom-temporarily-sabrina-mahmood-3/2026-09-09/
END:VEVENT
BEGIN:VEVENT
DTSTART;TZID=America/Chicago:20260923T190000
DTEND;TZID=America/Chicago:20260923T203000
DTSTAMP:20260420T051342
CREATED:20210210T004459Z
LAST-MODIFIED:20230112T214610Z
UID:10000439-1790190000-1790195400@powerofcompassion.org
SUMMARY:Heights Area/Houston: NVC Practice Group
DESCRIPTION:This peer-led study and practice group has been meeting since 2009.  It is open to everyone with a fundamental understanding of NVC\, by having read the book Nonviolent Communication: A Language of Life\, or who has attended an NVC weekend workshop. They meet every other week on Wednesdays in person and by Zoom from 7:00 p.m. – 8:30 p.m CT. \nPlease contact Heights NVC for the current meeting schedule and location.
URL:https://powerofcompassion.org/event/heights-area-houston-empathy-practice-group-moved-to-zoom-temporarily-sabrina-mahmood-3/2026-09-23/
END:VEVENT
BEGIN:VEVENT
DTSTART;TZID=America/Chicago:20261007T190000
DTEND;TZID=America/Chicago:20261007T203000
DTSTAMP:20260420T051342
CREATED:20210210T004459Z
LAST-MODIFIED:20230112T214610Z
UID:10000440-1791399600-1791405000@powerofcompassion.org
SUMMARY:Heights Area/Houston: NVC Practice Group
DESCRIPTION:This peer-led study and practice group has been meeting since 2009.  It is open to everyone with a fundamental understanding of NVC\, by having read the book Nonviolent Communication: A Language of Life\, or who has attended an NVC weekend workshop. They meet every other week on Wednesdays in person and by Zoom from 7:00 p.m. – 8:30 p.m CT. \nPlease contact Heights NVC for the current meeting schedule and location.
URL:https://powerofcompassion.org/event/heights-area-houston-empathy-practice-group-moved-to-zoom-temporarily-sabrina-mahmood-3/2026-10-07/
END:VEVENT
BEGIN:VEVENT
DTSTART;TZID=America/Chicago:20261021T190000
DTEND;TZID=America/Chicago:20261021T203000
DTSTAMP:20260420T051343
CREATED:20210210T004459Z
LAST-MODIFIED:20230112T214610Z
UID:10000441-1792609200-1792614600@powerofcompassion.org
SUMMARY:Heights Area/Houston: NVC Practice Group
DESCRIPTION:This peer-led study and practice group has been meeting since 2009.  It is open to everyone with a fundamental understanding of NVC\, by having read the book Nonviolent Communication: A Language of Life\, or who has attended an NVC weekend workshop. They meet every other week on Wednesdays in person and by Zoom from 7:00 p.m. – 8:30 p.m CT. \nPlease contact Heights NVC for the current meeting schedule and location.
URL:https://powerofcompassion.org/event/heights-area-houston-empathy-practice-group-moved-to-zoom-temporarily-sabrina-mahmood-3/2026-10-21/
END:VEVENT
BEGIN:VEVENT
DTSTART;TZID=America/Chicago:20261104T190000
DTEND;TZID=America/Chicago:20261104T203000
DTSTAMP:20260420T051343
CREATED:20210210T004459Z
LAST-MODIFIED:20230112T214610Z
UID:10000442-1793818800-1793824200@powerofcompassion.org
SUMMARY:Heights Area/Houston: NVC Practice Group
DESCRIPTION:This peer-led study and practice group has been meeting since 2009.  It is open to everyone with a fundamental understanding of NVC\, by having read the book Nonviolent Communication: A Language of Life\, or who has attended an NVC weekend workshop. They meet every other week on Wednesdays in person and by Zoom from 7:00 p.m. – 8:30 p.m CT. \nPlease contact Heights NVC for the current meeting schedule and location.
URL:https://powerofcompassion.org/event/heights-area-houston-empathy-practice-group-moved-to-zoom-temporarily-sabrina-mahmood-3/2026-11-04/
END:VEVENT
BEGIN:VEVENT
DTSTART;TZID=America/Chicago:20261118T190000
DTEND;TZID=America/Chicago:20261118T203000
DTSTAMP:20260420T051343
CREATED:20210210T004459Z
LAST-MODIFIED:20230112T214610Z
UID:10000443-1795028400-1795033800@powerofcompassion.org
SUMMARY:Heights Area/Houston: NVC Practice Group
DESCRIPTION:This peer-led study and practice group has been meeting since 2009.  It is open to everyone with a fundamental understanding of NVC\, by having read the book Nonviolent Communication: A Language of Life\, or who has attended an NVC weekend workshop. They meet every other week on Wednesdays in person and by Zoom from 7:00 p.m. – 8:30 p.m CT. \nPlease contact Heights NVC for the current meeting schedule and location.
URL:https://powerofcompassion.org/event/heights-area-houston-empathy-practice-group-moved-to-zoom-temporarily-sabrina-mahmood-3/2026-11-18/
END:VEVENT
BEGIN:VEVENT
DTSTART;TZID=America/Chicago:20261202T190000
DTEND;TZID=America/Chicago:20261202T203000
DTSTAMP:20260420T051343
CREATED:20210210T004459Z
LAST-MODIFIED:20230112T214610Z
UID:10000444-1796238000-1796243400@powerofcompassion.org
SUMMARY:Heights Area/Houston: NVC Practice Group
DESCRIPTION:This peer-led study and practice group has been meeting since 2009.  It is open to everyone with a fundamental understanding of NVC\, by having read the book Nonviolent Communication: A Language of Life\, or who has attended an NVC weekend workshop. They meet every other week on Wednesdays in person and by Zoom from 7:00 p.m. – 8:30 p.m CT. \nPlease contact Heights NVC for the current meeting schedule and location.
URL:https://powerofcompassion.org/event/heights-area-houston-empathy-practice-group-moved-to-zoom-temporarily-sabrina-mahmood-3/2026-12-02/
END:VEVENT
BEGIN:VEVENT
DTSTART;TZID=America/Chicago:20261216T190000
DTEND;TZID=America/Chicago:20261216T203000
DTSTAMP:20260420T051343
CREATED:20210210T004459Z
LAST-MODIFIED:20230112T214610Z
UID:10000445-1797447600-1797453000@powerofcompassion.org
SUMMARY:Heights Area/Houston: NVC Practice Group
DESCRIPTION:This peer-led study and practice group has been meeting since 2009.  It is open to everyone with a fundamental understanding of NVC\, by having read the book Nonviolent Communication: A Language of Life\, or who has attended an NVC weekend workshop. They meet every other week on Wednesdays in person and by Zoom from 7:00 p.m. – 8:30 p.m CT. \nPlease contact Heights NVC for the current meeting schedule and location.
URL:https://powerofcompassion.org/event/heights-area-houston-empathy-practice-group-moved-to-zoom-temporarily-sabrina-mahmood-3/2026-12-16/
END:VEVENT
BEGIN:VEVENT
DTSTART;TZID=America/Chicago:20261230T190000
DTEND;TZID=America/Chicago:20261230T203000
DTSTAMP:20260420T051343
CREATED:20210210T004459Z
LAST-MODIFIED:20230112T214610Z
UID:10000446-1798657200-1798662600@powerofcompassion.org
SUMMARY:Heights Area/Houston: NVC Practice Group
DESCRIPTION:This peer-led study and practice group has been meeting since 2009.  It is open to everyone with a fundamental understanding of NVC\, by having read the book Nonviolent Communication: A Language of Life\, or who has attended an NVC weekend workshop. They meet every other week on Wednesdays in person and by Zoom from 7:00 p.m. – 8:30 p.m CT. \nPlease contact Heights NVC for the current meeting schedule and location.
URL:https://powerofcompassion.org/event/heights-area-houston-empathy-practice-group-moved-to-zoom-temporarily-sabrina-mahmood-3/2026-12-30/
END:VEVENT
BEGIN:VEVENT
DTSTART;TZID=America/Chicago:20270113T190000
DTEND;TZID=America/Chicago:20270113T203000
DTSTAMP:20260420T051343
CREATED:20210210T004459Z
LAST-MODIFIED:20230112T214610Z
UID:10000447-1799866800-1799872200@powerofcompassion.org
SUMMARY:Heights Area/Houston: NVC Practice Group
DESCRIPTION:This peer-led study and practice group has been meeting since 2009.  It is open to everyone with a fundamental understanding of NVC\, by having read the book Nonviolent Communication: A Language of Life\, or who has attended an NVC weekend workshop. They meet every other week on Wednesdays in person and by Zoom from 7:00 p.m. – 8:30 p.m CT. \nPlease contact Heights NVC for the current meeting schedule and location.
URL:https://powerofcompassion.org/event/heights-area-houston-empathy-practice-group-moved-to-zoom-temporarily-sabrina-mahmood-3/2027-01-13/
END:VEVENT
BEGIN:VEVENT
DTSTART;TZID=America/Chicago:20270127T190000
DTEND;TZID=America/Chicago:20270127T203000
DTSTAMP:20260420T051343
CREATED:20210210T004459Z
LAST-MODIFIED:20230112T214610Z
UID:10000448-1801076400-1801081800@powerofcompassion.org
SUMMARY:Heights Area/Houston: NVC Practice Group
DESCRIPTION:This peer-led study and practice group has been meeting since 2009.  It is open to everyone with a fundamental understanding of NVC\, by having read the book Nonviolent Communication: A Language of Life\, or who has attended an NVC weekend workshop. They meet every other week on Wednesdays in person and by Zoom from 7:00 p.m. – 8:30 p.m CT. \nPlease contact Heights NVC for the current meeting schedule and location.
URL:https://powerofcompassion.org/event/heights-area-houston-empathy-practice-group-moved-to-zoom-temporarily-sabrina-mahmood-3/2027-01-27/
END:VEVENT
BEGIN:VEVENT
DTSTART;TZID=America/Chicago:20270210T190000
DTEND;TZID=America/Chicago:20270210T203000
DTSTAMP:20260420T051343
CREATED:20210210T004459Z
LAST-MODIFIED:20230112T214610Z
UID:10000449-1802286000-1802291400@powerofcompassion.org
SUMMARY:Heights Area/Houston: NVC Practice Group
DESCRIPTION:This peer-led study and practice group has been meeting since 2009.  It is open to everyone with a fundamental understanding of NVC\, by having read the book Nonviolent Communication: A Language of Life\, or who has attended an NVC weekend workshop. They meet every other week on Wednesdays in person and by Zoom from 7:00 p.m. – 8:30 p.m CT. \nPlease contact Heights NVC for the current meeting schedule and location.
URL:https://powerofcompassion.org/event/heights-area-houston-empathy-practice-group-moved-to-zoom-temporarily-sabrina-mahmood-3/2027-02-10/
END:VEVENT
BEGIN:VEVENT
DTSTART;TZID=America/Chicago:20270224T190000
DTEND;TZID=America/Chicago:20270224T203000
DTSTAMP:20260420T051343
CREATED:20210210T004459Z
LAST-MODIFIED:20230112T214610Z
UID:10000450-1803495600-1803501000@powerofcompassion.org
SUMMARY:Heights Area/Houston: NVC Practice Group
DESCRIPTION:This peer-led study and practice group has been meeting since 2009.  It is open to everyone with a fundamental understanding of NVC\, by having read the book Nonviolent Communication: A Language of Life\, or who has attended an NVC weekend workshop. They meet every other week on Wednesdays in person and by Zoom from 7:00 p.m. – 8:30 p.m CT. \nPlease contact Heights NVC for the current meeting schedule and location.
URL:https://powerofcompassion.org/event/heights-area-houston-empathy-practice-group-moved-to-zoom-temporarily-sabrina-mahmood-3/2027-02-24/
END:VEVENT
BEGIN:VEVENT
DTSTART;TZID=America/Chicago:20270310T190000
DTEND;TZID=America/Chicago:20270310T203000
DTSTAMP:20260420T051343
CREATED:20210210T004459Z
LAST-MODIFIED:20230112T214610Z
UID:10000451-1804705200-1804710600@powerofcompassion.org
SUMMARY:Heights Area/Houston: NVC Practice Group
DESCRIPTION:This peer-led study and practice group has been meeting since 2009.  It is open to everyone with a fundamental understanding of NVC\, by having read the book Nonviolent Communication: A Language of Life\, or who has attended an NVC weekend workshop. They meet every other week on Wednesdays in person and by Zoom from 7:00 p.m. – 8:30 p.m CT. \nPlease contact Heights NVC for the current meeting schedule and location.
URL:https://powerofcompassion.org/event/heights-area-houston-empathy-practice-group-moved-to-zoom-temporarily-sabrina-mahmood-3/2027-03-10/
END:VEVENT
BEGIN:VEVENT
DTSTART;TZID=America/Chicago:20270324T190000
DTEND;TZID=America/Chicago:20270324T203000
DTSTAMP:20260420T051343
CREATED:20210210T004459Z
LAST-MODIFIED:20230112T214610Z
UID:10000452-1805914800-1805920200@powerofcompassion.org
SUMMARY:Heights Area/Houston: NVC Practice Group
DESCRIPTION:This peer-led study and practice group has been meeting since 2009.  It is open to everyone with a fundamental understanding of NVC\, by having read the book Nonviolent Communication: A Language of Life\, or who has attended an NVC weekend workshop. They meet every other week on Wednesdays in person and by Zoom from 7:00 p.m. – 8:30 p.m CT. \nPlease contact Heights NVC for the current meeting schedule and location.
URL:https://powerofcompassion.org/event/heights-area-houston-empathy-practice-group-moved-to-zoom-temporarily-sabrina-mahmood-3/2027-03-24/
END:VEVENT
BEGIN:VEVENT
DTSTART;TZID=America/Chicago:20270407T190000
DTEND;TZID=America/Chicago:20270407T203000
DTSTAMP:20260420T051343
CREATED:20210210T004459Z
LAST-MODIFIED:20230112T214610Z
UID:10000453-1807124400-1807129800@powerofcompassion.org
SUMMARY:Heights Area/Houston: NVC Practice Group
DESCRIPTION:This peer-led study and practice group has been meeting since 2009.  It is open to everyone with a fundamental understanding of NVC\, by having read the book Nonviolent Communication: A Language of Life\, or who has attended an NVC weekend workshop. They meet every other week on Wednesdays in person and by Zoom from 7:00 p.m. – 8:30 p.m CT. \nPlease contact Heights NVC for the current meeting schedule and location.
URL:https://powerofcompassion.org/event/heights-area-houston-empathy-practice-group-moved-to-zoom-temporarily-sabrina-mahmood-3/2027-04-07/
END:VEVENT
BEGIN:VEVENT
DTSTART;TZID=America/Chicago:20270421T190000
DTEND;TZID=America/Chicago:20270421T203000
DTSTAMP:20260420T051343
CREATED:20210210T004459Z
LAST-MODIFIED:20230112T214610Z
UID:10000454-1808334000-1808339400@powerofcompassion.org
SUMMARY:Heights Area/Houston: NVC Practice Group
DESCRIPTION:This peer-led study and practice group has been meeting since 2009.  It is open to everyone with a fundamental understanding of NVC\, by having read the book Nonviolent Communication: A Language of Life\, or who has attended an NVC weekend workshop. They meet every other week on Wednesdays in person and by Zoom from 7:00 p.m. – 8:30 p.m CT. \nPlease contact Heights NVC for the current meeting schedule and location.
URL:https://powerofcompassion.org/event/heights-area-houston-empathy-practice-group-moved-to-zoom-temporarily-sabrina-mahmood-3/2027-04-21/
END:VEVENT
BEGIN:VEVENT
DTSTART;TZID=America/Chicago:20270505T190000
DTEND;TZID=America/Chicago:20270505T203000
DTSTAMP:20260420T051343
CREATED:20210210T004459Z
LAST-MODIFIED:20230112T214610Z
UID:10000455-1809543600-1809549000@powerofcompassion.org
SUMMARY:Heights Area/Houston: NVC Practice Group
DESCRIPTION:This peer-led study and practice group has been meeting since 2009.  It is open to everyone with a fundamental understanding of NVC\, by having read the book Nonviolent Communication: A Language of Life\, or who has attended an NVC weekend workshop. They meet every other week on Wednesdays in person and by Zoom from 7:00 p.m. – 8:30 p.m CT. \nPlease contact Heights NVC for the current meeting schedule and location.
URL:https://powerofcompassion.org/event/heights-area-houston-empathy-practice-group-moved-to-zoom-temporarily-sabrina-mahmood-3/2027-05-05/
END:VEVENT
BEGIN:VEVENT
DTSTART;TZID=America/Chicago:20270519T190000
DTEND;TZID=America/Chicago:20270519T203000
DTSTAMP:20260420T051343
CREATED:20210210T004459Z
LAST-MODIFIED:20230112T214610Z
UID:10000456-1810753200-1810758600@powerofcompassion.org
SUMMARY:Heights Area/Houston: NVC Practice Group
DESCRIPTION:This peer-led study and practice group has been meeting since 2009.  It is open to everyone with a fundamental understanding of NVC\, by having read the book Nonviolent Communication: A Language of Life\, or who has attended an NVC weekend workshop. They meet every other week on Wednesdays in person and by Zoom from 7:00 p.m. – 8:30 p.m CT. \nPlease contact Heights NVC for the current meeting schedule and location.
URL:https://powerofcompassion.org/event/heights-area-houston-empathy-practice-group-moved-to-zoom-temporarily-sabrina-mahmood-3/2027-05-19/
END:VEVENT
BEGIN:VEVENT
DTSTART;TZID=America/Chicago:20270602T190000
DTEND;TZID=America/Chicago:20270602T203000
DTSTAMP:20260420T051343
CREATED:20210210T004459Z
LAST-MODIFIED:20230112T214610Z
UID:10000457-1811962800-1811968200@powerofcompassion.org
SUMMARY:Heights Area/Houston: NVC Practice Group
DESCRIPTION:This peer-led study and practice group has been meeting since 2009.  It is open to everyone with a fundamental understanding of NVC\, by having read the book Nonviolent Communication: A Language of Life\, or who has attended an NVC weekend workshop. They meet every other week on Wednesdays in person and by Zoom from 7:00 p.m. – 8:30 p.m CT. \nPlease contact Heights NVC for the current meeting schedule and location.
URL:https://powerofcompassion.org/event/heights-area-houston-empathy-practice-group-moved-to-zoom-temporarily-sabrina-mahmood-3/2027-06-02/
END:VEVENT
END:VCALENDAR