BEGIN:VCALENDAR
VERSION:2.0
PRODID:-//Power of Compassion - ECPv6.15.20//NONSGML v1.0//EN
CALSCALE:GREGORIAN
METHOD:PUBLISH
X-WR-CALNAME:Power of Compassion
X-ORIGINAL-URL:https://powerofcompassion.org
X-WR-CALDESC:Events for Power of Compassion
REFRESH-INTERVAL;VALUE=DURATION:PT1H
X-Robots-Tag:noindex
X-PUBLISHED-TTL:PT1H
BEGIN:VTIMEZONE
TZID:America/Chicago
BEGIN:DAYLIGHT
TZOFFSETFROM:-0600
TZOFFSETTO:-0500
TZNAME:CDT
DTSTART:20270314T080000
END:DAYLIGHT
BEGIN:STANDARD
TZOFFSETFROM:-0500
TZOFFSETTO:-0600
TZNAME:CST
DTSTART:20271107T070000
END:STANDARD
BEGIN:DAYLIGHT
TZOFFSETFROM:-0600
TZOFFSETTO:-0500
TZNAME:CDT
DTSTART:20280312T080000
END:DAYLIGHT
BEGIN:STANDARD
TZOFFSETFROM:-0500
TZOFFSETTO:-0600
TZNAME:CST
DTSTART:20281105T070000
END:STANDARD
BEGIN:DAYLIGHT
TZOFFSETFROM:-0600
TZOFFSETTO:-0500
TZNAME:CDT
DTSTART:20290311T080000
END:DAYLIGHT
BEGIN:STANDARD
TZOFFSETFROM:-0500
TZOFFSETTO:-0600
TZNAME:CST
DTSTART:20291104T070000
END:STANDARD
END:VTIMEZONE
BEGIN:VEVENT
DTSTART;TZID=America/Chicago:20280304T090000
DTEND;TZID=America/Chicago:20280304T103000
DTSTAMP:20260421T055340
CREATED:20210503T233759Z
LAST-MODIFIED:20250203T211803Z
UID:10000932-1835773200-1835778600@powerofcompassion.org
SUMMARY:Empathy Circle - Bren Hardt\, CNVC Certified Trainer
DESCRIPTION:Empathy\, also called “Attuned Listening”\, is both a gift to you and a gift to others. Empathy enlarges our understanding of ourselves and others and awakens compassion where judgment and separation once existed. I cannot imagine the needed world transformation happening without more of us developing our capacity for giving and receiving empathy. \nSo please join me\, Bren Hardt\, CNVC Certified Trainer\, and others in a community of practice on Zoom every Saturday\, 9 am to 10:30 am Central Time (Texas\, USA).  \nInvite your friends to join you. Periodic donations are appreciated on a gift economy basis. \nClick here to register!
URL:https://powerofcompassion.org/event/empathy-circle-bren-hardt/2028-03-04/
LOCATION:Zoom
ATTACH;FMTTYPE=image/png:https://powerofcompassion.org/wp-content/uploads/2019/10/hardt.png
END:VEVENT
BEGIN:VEVENT
DTSTART;TZID=America/Chicago:20280308T190000
DTEND;TZID=America/Chicago:20280308T203000
DTSTAMP:20260421T055340
CREATED:20210210T004459Z
LAST-MODIFIED:20230112T214610Z
UID:10000477-1836154800-1836160200@powerofcompassion.org
SUMMARY:Heights Area/Houston: NVC Practice Group
DESCRIPTION:This peer-led study and practice group has been meeting since 2009.  It is open to everyone with a fundamental understanding of NVC\, by having read the book Nonviolent Communication: A Language of Life\, or who has attended an NVC weekend workshop. They meet every other week on Wednesdays in person and by Zoom from 7:00 p.m. – 8:30 p.m CT. \nPlease contact Heights NVC for the current meeting schedule and location.
URL:https://powerofcompassion.org/event/heights-area-houston-empathy-practice-group-moved-to-zoom-temporarily-sabrina-mahmood-3/2028-03-08/
END:VEVENT
BEGIN:VEVENT
DTSTART;TZID=America/Chicago:20280311T090000
DTEND;TZID=America/Chicago:20280311T103000
DTSTAMP:20260421T055340
CREATED:20210503T233759Z
LAST-MODIFIED:20250203T211803Z
UID:10000933-1836378000-1836383400@powerofcompassion.org
SUMMARY:Empathy Circle - Bren Hardt\, CNVC Certified Trainer
DESCRIPTION:Empathy\, also called “Attuned Listening”\, is both a gift to you and a gift to others. Empathy enlarges our understanding of ourselves and others and awakens compassion where judgment and separation once existed. I cannot imagine the needed world transformation happening without more of us developing our capacity for giving and receiving empathy. \nSo please join me\, Bren Hardt\, CNVC Certified Trainer\, and others in a community of practice on Zoom every Saturday\, 9 am to 10:30 am Central Time (Texas\, USA).  \nInvite your friends to join you. Periodic donations are appreciated on a gift economy basis. \nClick here to register!
URL:https://powerofcompassion.org/event/empathy-circle-bren-hardt/2028-03-11/
LOCATION:Zoom
ATTACH;FMTTYPE=image/png:https://powerofcompassion.org/wp-content/uploads/2019/10/hardt.png
END:VEVENT
BEGIN:VEVENT
DTSTART;TZID=America/Chicago:20280318T090000
DTEND;TZID=America/Chicago:20280318T103000
DTSTAMP:20260421T055340
CREATED:20210503T233759Z
LAST-MODIFIED:20250203T211803Z
UID:10000934-1836982800-1836988200@powerofcompassion.org
SUMMARY:Empathy Circle - Bren Hardt\, CNVC Certified Trainer
DESCRIPTION:Empathy\, also called “Attuned Listening”\, is both a gift to you and a gift to others. Empathy enlarges our understanding of ourselves and others and awakens compassion where judgment and separation once existed. I cannot imagine the needed world transformation happening without more of us developing our capacity for giving and receiving empathy. \nSo please join me\, Bren Hardt\, CNVC Certified Trainer\, and others in a community of practice on Zoom every Saturday\, 9 am to 10:30 am Central Time (Texas\, USA).  \nInvite your friends to join you. Periodic donations are appreciated on a gift economy basis. \nClick here to register!
URL:https://powerofcompassion.org/event/empathy-circle-bren-hardt/2028-03-18/
LOCATION:Zoom
ATTACH;FMTTYPE=image/png:https://powerofcompassion.org/wp-content/uploads/2019/10/hardt.png
END:VEVENT
BEGIN:VEVENT
DTSTART;TZID=America/Chicago:20280322T190000
DTEND;TZID=America/Chicago:20280322T203000
DTSTAMP:20260421T055340
CREATED:20210210T004459Z
LAST-MODIFIED:20230112T214610Z
UID:10000478-1837364400-1837369800@powerofcompassion.org
SUMMARY:Heights Area/Houston: NVC Practice Group
DESCRIPTION:This peer-led study and practice group has been meeting since 2009.  It is open to everyone with a fundamental understanding of NVC\, by having read the book Nonviolent Communication: A Language of Life\, or who has attended an NVC weekend workshop. They meet every other week on Wednesdays in person and by Zoom from 7:00 p.m. – 8:30 p.m CT. \nPlease contact Heights NVC for the current meeting schedule and location.
URL:https://powerofcompassion.org/event/heights-area-houston-empathy-practice-group-moved-to-zoom-temporarily-sabrina-mahmood-3/2028-03-22/
END:VEVENT
BEGIN:VEVENT
DTSTART;TZID=America/Chicago:20280325T090000
DTEND;TZID=America/Chicago:20280325T103000
DTSTAMP:20260421T055340
CREATED:20210503T233759Z
LAST-MODIFIED:20250203T211803Z
UID:10000935-1837587600-1837593000@powerofcompassion.org
SUMMARY:Empathy Circle - Bren Hardt\, CNVC Certified Trainer
DESCRIPTION:Empathy\, also called “Attuned Listening”\, is both a gift to you and a gift to others. Empathy enlarges our understanding of ourselves and others and awakens compassion where judgment and separation once existed. I cannot imagine the needed world transformation happening without more of us developing our capacity for giving and receiving empathy. \nSo please join me\, Bren Hardt\, CNVC Certified Trainer\, and others in a community of practice on Zoom every Saturday\, 9 am to 10:30 am Central Time (Texas\, USA).  \nInvite your friends to join you. Periodic donations are appreciated on a gift economy basis. \nClick here to register!
URL:https://powerofcompassion.org/event/empathy-circle-bren-hardt/2028-03-25/
LOCATION:Zoom
ATTACH;FMTTYPE=image/png:https://powerofcompassion.org/wp-content/uploads/2019/10/hardt.png
END:VEVENT
END:VCALENDAR