BEGIN:VCALENDAR
VERSION:2.0
PRODID:-//Power of Compassion - ECPv6.15.20//NONSGML v1.0//EN
CALSCALE:GREGORIAN
METHOD:PUBLISH
X-WR-CALNAME:Power of Compassion
X-ORIGINAL-URL:https://powerofcompassion.org
X-WR-CALDESC:Events for Power of Compassion
REFRESH-INTERVAL;VALUE=DURATION:PT1H
X-Robots-Tag:noindex
X-PUBLISHED-TTL:PT1H
BEGIN:VTIMEZONE
TZID:America/Chicago
BEGIN:DAYLIGHT
TZOFFSETFROM:-0600
TZOFFSETTO:-0500
TZNAME:CDT
DTSTART:20220313T080000
END:DAYLIGHT
BEGIN:STANDARD
TZOFFSETFROM:-0500
TZOFFSETTO:-0600
TZNAME:CST
DTSTART:20221106T070000
END:STANDARD
BEGIN:DAYLIGHT
TZOFFSETFROM:-0600
TZOFFSETTO:-0500
TZNAME:CDT
DTSTART:20230312T080000
END:DAYLIGHT
BEGIN:STANDARD
TZOFFSETFROM:-0500
TZOFFSETTO:-0600
TZNAME:CST
DTSTART:20231105T070000
END:STANDARD
BEGIN:DAYLIGHT
TZOFFSETFROM:-0600
TZOFFSETTO:-0500
TZNAME:CDT
DTSTART:20240310T080000
END:DAYLIGHT
BEGIN:STANDARD
TZOFFSETFROM:-0500
TZOFFSETTO:-0600
TZNAME:CST
DTSTART:20241103T070000
END:STANDARD
END:VTIMEZONE
BEGIN:VEVENT
DTSTART;TZID=America/Chicago:20230603T090000
DTEND;TZID=America/Chicago:20230603T103000
DTSTAMP:20260421T234744
CREATED:20210503T233759Z
LAST-MODIFIED:20250203T211803Z
UID:10000684-1685782800-1685788200@powerofcompassion.org
SUMMARY:Empathy Circle - Bren Hardt\, CNVC Certified Trainer
DESCRIPTION:Empathy\, also called “Attuned Listening”\, is both a gift to you and a gift to others. Empathy enlarges our understanding of ourselves and others and awakens compassion where judgment and separation once existed. I cannot imagine the needed world transformation happening without more of us developing our capacity for giving and receiving empathy. \nSo please join me\, Bren Hardt\, CNVC Certified Trainer\, and others in a community of practice on Zoom every Saturday\, 9 am to 10:30 am Central Time (Texas\, USA).  \nInvite your friends to join you. Periodic donations are appreciated on a gift economy basis. \nClick here to register!
URL:https://powerofcompassion.org/event/empathy-circle-bren-hardt/2023-06-03/
LOCATION:Zoom
ATTACH;FMTTYPE=image/png:https://powerofcompassion.org/wp-content/uploads/2019/10/hardt.png
END:VEVENT
BEGIN:VEVENT
DTSTART;TZID=America/Chicago:20230603T103000
DTEND;TZID=America/Chicago:20230603T123000
DTSTAMP:20260421T234744
CREATED:20230403T041922Z
LAST-MODIFIED:20230403T042540Z
UID:10001204-1685788200-1685795400@powerofcompassion.org
SUMMARY:Fundamentals of Nonviolent Communication
DESCRIPTION:Fundamentals of Nonviolent Communication – Starting now!\n\n\nDo you want to create more joy in your life? \n  \nDo you want to transform conflicts into: \n·       Self-awareness and choices in life? \n·       Connection with children\, family\, and friends? \n·       Collaboration and win-win situations at work? \n  \nIf you answered yes to any question above\, come join the upcoming “Fundamentals of Nonviolent Communication” course! NVC offers tools to help us evolve steadily towards collaborative and respectful relationships — enhancing peace\, understanding\, synergy\, productivity\, and creativity. \n  \nThis course will be facilitated by Susan Wildin MD\, CPC. We will be meeting remotely via Zoom on Saturdays from May 6 through June 24\, from 10:30-12:30 pm Central/Houston Time. \n  \nWho is this for? \nPeople of all ages\, genders\, and walks of life can find transformation in this process. This is an excellent foundational workshop for the beginner or a sound refresher for returning practitioners. \n  \n  \n  \nLearn More & Register
URL:https://powerofcompassion.org/event/fundamentals-of-nonviolent-communication-2/2023-06-03/
LOCATION:Zoom
END:VEVENT
BEGIN:VEVENT
DTSTART;TZID=America/Chicago:20230607T190000
DTEND;TZID=America/Chicago:20230607T203000
DTSTAMP:20260421T234744
CREATED:20210210T004459Z
LAST-MODIFIED:20230112T214610Z
UID:10000353-1686164400-1686169800@powerofcompassion.org
SUMMARY:Heights Area/Houston: NVC Practice Group
DESCRIPTION:This peer-led study and practice group has been meeting since 2009.  It is open to everyone with a fundamental understanding of NVC\, by having read the book Nonviolent Communication: A Language of Life\, or who has attended an NVC weekend workshop. They meet every other week on Wednesdays in person and by Zoom from 7:00 p.m. – 8:30 p.m CT. \nPlease contact Heights NVC for the current meeting schedule and location.
URL:https://powerofcompassion.org/event/heights-area-houston-empathy-practice-group-moved-to-zoom-temporarily-sabrina-mahmood-3/2023-06-07/
END:VEVENT
BEGIN:VEVENT
DTSTART;TZID=America/Chicago:20230610T090000
DTEND;TZID=America/Chicago:20230610T103000
DTSTAMP:20260421T234744
CREATED:20210503T233759Z
LAST-MODIFIED:20250203T211803Z
UID:10000685-1686387600-1686393000@powerofcompassion.org
SUMMARY:Empathy Circle - Bren Hardt\, CNVC Certified Trainer
DESCRIPTION:Empathy\, also called “Attuned Listening”\, is both a gift to you and a gift to others. Empathy enlarges our understanding of ourselves and others and awakens compassion where judgment and separation once existed. I cannot imagine the needed world transformation happening without more of us developing our capacity for giving and receiving empathy. \nSo please join me\, Bren Hardt\, CNVC Certified Trainer\, and others in a community of practice on Zoom every Saturday\, 9 am to 10:30 am Central Time (Texas\, USA).  \nInvite your friends to join you. Periodic donations are appreciated on a gift economy basis. \nClick here to register!
URL:https://powerofcompassion.org/event/empathy-circle-bren-hardt/2023-06-10/
LOCATION:Zoom
ATTACH;FMTTYPE=image/png:https://powerofcompassion.org/wp-content/uploads/2019/10/hardt.png
END:VEVENT
BEGIN:VEVENT
DTSTART;TZID=America/Chicago:20230610T103000
DTEND;TZID=America/Chicago:20230610T123000
DTSTAMP:20260421T234744
CREATED:20230403T041922Z
LAST-MODIFIED:20230403T042540Z
UID:10001205-1686393000-1686400200@powerofcompassion.org
SUMMARY:Fundamentals of Nonviolent Communication
DESCRIPTION:Fundamentals of Nonviolent Communication – Starting now!\n\n\nDo you want to create more joy in your life? \n  \nDo you want to transform conflicts into: \n·       Self-awareness and choices in life? \n·       Connection with children\, family\, and friends? \n·       Collaboration and win-win situations at work? \n  \nIf you answered yes to any question above\, come join the upcoming “Fundamentals of Nonviolent Communication” course! NVC offers tools to help us evolve steadily towards collaborative and respectful relationships — enhancing peace\, understanding\, synergy\, productivity\, and creativity. \n  \nThis course will be facilitated by Susan Wildin MD\, CPC. We will be meeting remotely via Zoom on Saturdays from May 6 through June 24\, from 10:30-12:30 pm Central/Houston Time. \n  \nWho is this for? \nPeople of all ages\, genders\, and walks of life can find transformation in this process. This is an excellent foundational workshop for the beginner or a sound refresher for returning practitioners. \n  \n  \n  \nLearn More & Register
URL:https://powerofcompassion.org/event/fundamentals-of-nonviolent-communication-2/2023-06-10/
LOCATION:Zoom
END:VEVENT
BEGIN:VEVENT
DTSTART;TZID=America/Chicago:20230617T090000
DTEND;TZID=America/Chicago:20230617T103000
DTSTAMP:20260421T234744
CREATED:20210503T233759Z
LAST-MODIFIED:20250203T211803Z
UID:10000686-1686992400-1686997800@powerofcompassion.org
SUMMARY:Empathy Circle - Bren Hardt\, CNVC Certified Trainer
DESCRIPTION:Empathy\, also called “Attuned Listening”\, is both a gift to you and a gift to others. Empathy enlarges our understanding of ourselves and others and awakens compassion where judgment and separation once existed. I cannot imagine the needed world transformation happening without more of us developing our capacity for giving and receiving empathy. \nSo please join me\, Bren Hardt\, CNVC Certified Trainer\, and others in a community of practice on Zoom every Saturday\, 9 am to 10:30 am Central Time (Texas\, USA).  \nInvite your friends to join you. Periodic donations are appreciated on a gift economy basis. \nClick here to register!
URL:https://powerofcompassion.org/event/empathy-circle-bren-hardt/2023-06-17/
LOCATION:Zoom
ATTACH;FMTTYPE=image/png:https://powerofcompassion.org/wp-content/uploads/2019/10/hardt.png
END:VEVENT
BEGIN:VEVENT
DTSTART;TZID=America/Chicago:20230617T103000
DTEND;TZID=America/Chicago:20230617T123000
DTSTAMP:20260421T234744
CREATED:20230403T041922Z
LAST-MODIFIED:20230403T042540Z
UID:10001206-1686997800-1687005000@powerofcompassion.org
SUMMARY:Fundamentals of Nonviolent Communication
DESCRIPTION:Fundamentals of Nonviolent Communication – Starting now!\n\n\nDo you want to create more joy in your life? \n  \nDo you want to transform conflicts into: \n·       Self-awareness and choices in life? \n·       Connection with children\, family\, and friends? \n·       Collaboration and win-win situations at work? \n  \nIf you answered yes to any question above\, come join the upcoming “Fundamentals of Nonviolent Communication” course! NVC offers tools to help us evolve steadily towards collaborative and respectful relationships — enhancing peace\, understanding\, synergy\, productivity\, and creativity. \n  \nThis course will be facilitated by Susan Wildin MD\, CPC. We will be meeting remotely via Zoom on Saturdays from May 6 through June 24\, from 10:30-12:30 pm Central/Houston Time. \n  \nWho is this for? \nPeople of all ages\, genders\, and walks of life can find transformation in this process. This is an excellent foundational workshop for the beginner or a sound refresher for returning practitioners. \n  \n  \n  \nLearn More & Register
URL:https://powerofcompassion.org/event/fundamentals-of-nonviolent-communication-2/2023-06-17/
LOCATION:Zoom
END:VEVENT
BEGIN:VEVENT
DTSTART;TZID=America/Chicago:20230621T190000
DTEND;TZID=America/Chicago:20230621T203000
DTSTAMP:20260421T234744
CREATED:20210210T004459Z
LAST-MODIFIED:20230112T214610Z
UID:10000354-1687374000-1687379400@powerofcompassion.org
SUMMARY:Heights Area/Houston: NVC Practice Group
DESCRIPTION:This peer-led study and practice group has been meeting since 2009.  It is open to everyone with a fundamental understanding of NVC\, by having read the book Nonviolent Communication: A Language of Life\, or who has attended an NVC weekend workshop. They meet every other week on Wednesdays in person and by Zoom from 7:00 p.m. – 8:30 p.m CT. \nPlease contact Heights NVC for the current meeting schedule and location.
URL:https://powerofcompassion.org/event/heights-area-houston-empathy-practice-group-moved-to-zoom-temporarily-sabrina-mahmood-3/2023-06-21/
END:VEVENT
BEGIN:VEVENT
DTSTART;TZID=America/Chicago:20230624T090000
DTEND;TZID=America/Chicago:20230624T103000
DTSTAMP:20260421T234744
CREATED:20210503T233759Z
LAST-MODIFIED:20250203T211803Z
UID:10000687-1687597200-1687602600@powerofcompassion.org
SUMMARY:Empathy Circle - Bren Hardt\, CNVC Certified Trainer
DESCRIPTION:Empathy\, also called “Attuned Listening”\, is both a gift to you and a gift to others. Empathy enlarges our understanding of ourselves and others and awakens compassion where judgment and separation once existed. I cannot imagine the needed world transformation happening without more of us developing our capacity for giving and receiving empathy. \nSo please join me\, Bren Hardt\, CNVC Certified Trainer\, and others in a community of practice on Zoom every Saturday\, 9 am to 10:30 am Central Time (Texas\, USA).  \nInvite your friends to join you. Periodic donations are appreciated on a gift economy basis. \nClick here to register!
URL:https://powerofcompassion.org/event/empathy-circle-bren-hardt/2023-06-24/
LOCATION:Zoom
ATTACH;FMTTYPE=image/png:https://powerofcompassion.org/wp-content/uploads/2019/10/hardt.png
END:VEVENT
BEGIN:VEVENT
DTSTART;TZID=America/Chicago:20230624T103000
DTEND;TZID=America/Chicago:20230624T123000
DTSTAMP:20260421T234744
CREATED:20230403T041922Z
LAST-MODIFIED:20230403T042540Z
UID:10001207-1687602600-1687609800@powerofcompassion.org
SUMMARY:Fundamentals of Nonviolent Communication
DESCRIPTION:Fundamentals of Nonviolent Communication – Starting now!\n\n\nDo you want to create more joy in your life? \n  \nDo you want to transform conflicts into: \n·       Self-awareness and choices in life? \n·       Connection with children\, family\, and friends? \n·       Collaboration and win-win situations at work? \n  \nIf you answered yes to any question above\, come join the upcoming “Fundamentals of Nonviolent Communication” course! NVC offers tools to help us evolve steadily towards collaborative and respectful relationships — enhancing peace\, understanding\, synergy\, productivity\, and creativity. \n  \nThis course will be facilitated by Susan Wildin MD\, CPC. We will be meeting remotely via Zoom on Saturdays from May 6 through June 24\, from 10:30-12:30 pm Central/Houston Time. \n  \nWho is this for? \nPeople of all ages\, genders\, and walks of life can find transformation in this process. This is an excellent foundational workshop for the beginner or a sound refresher for returning practitioners. \n  \n  \n  \nLearn More & Register
URL:https://powerofcompassion.org/event/fundamentals-of-nonviolent-communication-2/2023-06-24/
LOCATION:Zoom
END:VEVENT
END:VCALENDAR