BEGIN:VCALENDAR
VERSION:2.0
PRODID:-//Power of Compassion - ECPv6.15.20//NONSGML v1.0//EN
CALSCALE:GREGORIAN
METHOD:PUBLISH
X-WR-CALNAME:Power of Compassion
X-ORIGINAL-URL:https://powerofcompassion.org
X-WR-CALDESC:Events for Power of Compassion
REFRESH-INTERVAL;VALUE=DURATION:PT1H
X-Robots-Tag:noindex
X-PUBLISHED-TTL:PT1H
BEGIN:VTIMEZONE
TZID:America/Chicago
BEGIN:DAYLIGHT
TZOFFSETFROM:-0600
TZOFFSETTO:-0500
TZNAME:CDT
DTSTART:20200308T080000
END:DAYLIGHT
BEGIN:STANDARD
TZOFFSETFROM:-0500
TZOFFSETTO:-0600
TZNAME:CST
DTSTART:20201101T070000
END:STANDARD
BEGIN:DAYLIGHT
TZOFFSETFROM:-0600
TZOFFSETTO:-0500
TZNAME:CDT
DTSTART:20210314T080000
END:DAYLIGHT
BEGIN:STANDARD
TZOFFSETFROM:-0500
TZOFFSETTO:-0600
TZNAME:CST
DTSTART:20211107T070000
END:STANDARD
BEGIN:DAYLIGHT
TZOFFSETFROM:-0600
TZOFFSETTO:-0500
TZNAME:CDT
DTSTART:20220313T080000
END:DAYLIGHT
BEGIN:STANDARD
TZOFFSETFROM:-0500
TZOFFSETTO:-0600
TZNAME:CST
DTSTART:20221106T070000
END:STANDARD
END:VTIMEZONE
BEGIN:VEVENT
DTSTART;TZID=America/Chicago:20211001T090000
DTEND;TZID=America/Chicago:20211001T110000
DTSTAMP:20260423T052404
CREATED:20210702T224014Z
LAST-MODIFIED:20210814T155514Z
UID:10001064-1633078800-1633086000@powerofcompassion.org
SUMMARY:Fundamentals of Nonviolent Communication - Karen Starz\, MA\, MAEC\, CNVC Certified Trainer
DESCRIPTION:Fundamentals of Nonviolent Communication\n8 Week Series\nFor an in depth learning of the fundamentals of Nonviolent Communication and a journey through “Nonviolent Communication\, A Language of Life” by Marshall Rosenberg\, please join Karen Starz\, CNVC Certified Trainer starting in August 2020! \nWe will be meeting on Fridays\, August 13th – October 8th\, from 9-11 am CT. There will be no session on Friday\, September 3rd.\n \n  \n\nWhat is it? This is a highly interactive\, discussion-based exploration of Marshall Rosenberg’s book “Nonviolent Communication: a Language of Life\, 3rd Ed.” (Puddle Dancer Press\, 2015). Together\, we will form an online learning community in which we can apply what we’ve read about with real people in real conversation. Reading\, reflection\, and review homework provide participants with the opportunity to make the most of the weekly online interactions\, which will focus on practice and application. This is an excellent foundational workshop for the beginner or a sound refresher for returning practitioners.\n\n\nWho is it for? This course is for people who have occasion to communicate with people and want to be able to do so more effectively\, especially in the conversations which are most important to us. The people who will get the most out of the experience are those who read along in advance of each week’s session and come ready and willing to risk trying the things they read about in a real conversation with a real person.\n\n\nWhat is unique about this course? Rosenberg’s compassionate communication framework is a powerful tool we can use to make authentic\, heart-to-heart connections. Being heard\, understood\, and accepted is one of the most powerful gifts we can offer one another. It is also a gift that those around us desperately need. This group provides an opportunity to create peace in the world by creating peace within ourselves\, as well as between ourselves and all with whom we speak.\n\nThe requested amount is $180 USD per participant for the 8 week series. You will also need to buy a copy of Marshall Rosenberg’s Nonviolent Communication\, A Language of Life. \nPlease contact Karen (starz.organizer@gmail.com) to make a request for tuition assistance or payment plan\, as needed. \nHouston NVC supports all economic levels and does not turn away participants.
URL:https://powerofcompassion.org/event/fundamentals-of-nonviolent-communication/2021-10-01/
LOCATION:Zoom
ATTACH;FMTTYPE=image/jpeg:https://powerofcompassion.org/wp-content/uploads/2019/10/Karen-Starz-sq.jpg
ORGANIZER;CN="Karen Starz%2C MA%2C MAEC%2C CNVC Certified Trainer":MAILTO:starz.organizer@gmail.com
END:VEVENT
BEGIN:VEVENT
DTSTART;TZID=America/Chicago:20211002T090000
DTEND;TZID=America/Chicago:20211002T103000
DTSTAMP:20260423T052404
CREATED:20210503T233759Z
LAST-MODIFIED:20250203T211803Z
UID:10000597-1633165200-1633170600@powerofcompassion.org
SUMMARY:Empathy Circle - Bren Hardt\, CNVC Certified Trainer
DESCRIPTION:Empathy\, also called “Attuned Listening”\, is both a gift to you and a gift to others. Empathy enlarges our understanding of ourselves and others and awakens compassion where judgment and separation once existed. I cannot imagine the needed world transformation happening without more of us developing our capacity for giving and receiving empathy. \nSo please join me\, Bren Hardt\, CNVC Certified Trainer\, and others in a community of practice on Zoom every Saturday\, 9 am to 10:30 am Central Time (Texas\, USA).  \nInvite your friends to join you. Periodic donations are appreciated on a gift economy basis. \nClick here to register!
URL:https://powerofcompassion.org/event/empathy-circle-bren-hardt/2021-10-02/
LOCATION:Zoom
ATTACH;FMTTYPE=image/png:https://powerofcompassion.org/wp-content/uploads/2019/10/hardt.png
END:VEVENT
BEGIN:VEVENT
DTSTART;TZID=America/Chicago:20211003T180000
DTEND;TZID=America/Chicago:20211003T200000
DTSTAMP:20260423T052404
CREATED:20210921T030247Z
LAST-MODIFIED:20210921T033728Z
UID:10001075-1633284000-1633291200@powerofcompassion.org
SUMMARY:NVC and Habits: A 12-Week Journey - Karen Starz\, MA\, MAEC\, CNVC Certified Trainer
DESCRIPTION:Join us for a 12-week supported journey through creating more life-serving habits. Increase self-awareness and explore your habits within the context of Nonviolent Communication. The exploration of habits will take place in a community of trust and includes the opportunity to select a package that offers one on one sessions with Karen Starz\, MA\, CNVC Certified Trainer\, as additional support outside of the group coursework.\n\nExpect to consciously integrate the work for two hours a week outside of the class sessions. The “work” however\, will aim to be fun\, relaxing\, playful\, energizing\, and full of curiosity around your own belief systems and thoughts. I choose to call it growth work and not homework! The aim is not to change habits although\, that will be a byproduct of the course. The aim is deep self-connection and connection to divine beloved energy.\n\nWe will meet together live\, in weekly group sessions beginning October 3rd\, 2021 from 6-8 pm Central Standard Time (CST).\n\n​We will not be meeting on the Sundays of Nov. 28th or Dec. 26th.\n\nWho is this program for?\nThis is open to anyone who would like to learn and have support while exploring habits and patterns that are no longer serving them.\nThese habits could be internal patterns\, such as thoughts or defense mechanisms\, or external behaviors like substance-related habits (this program could also be a meaningful companion to a 12-step or other recovery program).​\n\nLearn More & Register
URL:https://powerofcompassion.org/event/nvc-and-habits-a-12-week-journey-karen-starz-ma-maec-cnvc-certified-trainer/2021-10-03/
LOCATION:Zoom
ATTACH;FMTTYPE=image/jpeg:https://powerofcompassion.org/wp-content/uploads/2019/10/Karen-Starz-sq.jpg
ORGANIZER;CN="Karen Starz%2C MA%2C MAEC%2C CNVC Certified Trainer":MAILTO:starz.organizer@gmail.com
END:VEVENT
BEGIN:VEVENT
DTSTART;TZID=America/Chicago:20211008T090000
DTEND;TZID=America/Chicago:20211008T110000
DTSTAMP:20260423T052404
CREATED:20210702T224014Z
LAST-MODIFIED:20210814T155514Z
UID:10001065-1633683600-1633690800@powerofcompassion.org
SUMMARY:Fundamentals of Nonviolent Communication - Karen Starz\, MA\, MAEC\, CNVC Certified Trainer
DESCRIPTION:Fundamentals of Nonviolent Communication\n8 Week Series\nFor an in depth learning of the fundamentals of Nonviolent Communication and a journey through “Nonviolent Communication\, A Language of Life” by Marshall Rosenberg\, please join Karen Starz\, CNVC Certified Trainer starting in August 2020! \nWe will be meeting on Fridays\, August 13th – October 8th\, from 9-11 am CT. There will be no session on Friday\, September 3rd.\n \n  \n\nWhat is it? This is a highly interactive\, discussion-based exploration of Marshall Rosenberg’s book “Nonviolent Communication: a Language of Life\, 3rd Ed.” (Puddle Dancer Press\, 2015). Together\, we will form an online learning community in which we can apply what we’ve read about with real people in real conversation. Reading\, reflection\, and review homework provide participants with the opportunity to make the most of the weekly online interactions\, which will focus on practice and application. This is an excellent foundational workshop for the beginner or a sound refresher for returning practitioners.\n\n\nWho is it for? This course is for people who have occasion to communicate with people and want to be able to do so more effectively\, especially in the conversations which are most important to us. The people who will get the most out of the experience are those who read along in advance of each week’s session and come ready and willing to risk trying the things they read about in a real conversation with a real person.\n\n\nWhat is unique about this course? Rosenberg’s compassionate communication framework is a powerful tool we can use to make authentic\, heart-to-heart connections. Being heard\, understood\, and accepted is one of the most powerful gifts we can offer one another. It is also a gift that those around us desperately need. This group provides an opportunity to create peace in the world by creating peace within ourselves\, as well as between ourselves and all with whom we speak.\n\nThe requested amount is $180 USD per participant for the 8 week series. You will also need to buy a copy of Marshall Rosenberg’s Nonviolent Communication\, A Language of Life. \nPlease contact Karen (starz.organizer@gmail.com) to make a request for tuition assistance or payment plan\, as needed. \nHouston NVC supports all economic levels and does not turn away participants.
URL:https://powerofcompassion.org/event/fundamentals-of-nonviolent-communication/2021-10-08/
LOCATION:Zoom
ATTACH;FMTTYPE=image/jpeg:https://powerofcompassion.org/wp-content/uploads/2019/10/Karen-Starz-sq.jpg
ORGANIZER;CN="Karen Starz%2C MA%2C MAEC%2C CNVC Certified Trainer":MAILTO:starz.organizer@gmail.com
END:VEVENT
BEGIN:VEVENT
DTSTART;TZID=America/Chicago:20211009T090000
DTEND;TZID=America/Chicago:20211009T103000
DTSTAMP:20260423T052404
CREATED:20210503T233759Z
LAST-MODIFIED:20250203T211803Z
UID:10000598-1633770000-1633775400@powerofcompassion.org
SUMMARY:Empathy Circle - Bren Hardt\, CNVC Certified Trainer
DESCRIPTION:Empathy\, also called “Attuned Listening”\, is both a gift to you and a gift to others. Empathy enlarges our understanding of ourselves and others and awakens compassion where judgment and separation once existed. I cannot imagine the needed world transformation happening without more of us developing our capacity for giving and receiving empathy. \nSo please join me\, Bren Hardt\, CNVC Certified Trainer\, and others in a community of practice on Zoom every Saturday\, 9 am to 10:30 am Central Time (Texas\, USA).  \nInvite your friends to join you. Periodic donations are appreciated on a gift economy basis. \nClick here to register!
URL:https://powerofcompassion.org/event/empathy-circle-bren-hardt/2021-10-09/
LOCATION:Zoom
ATTACH;FMTTYPE=image/png:https://powerofcompassion.org/wp-content/uploads/2019/10/hardt.png
END:VEVENT
BEGIN:VEVENT
DTSTART;TZID=America/Chicago:20211010T180000
DTEND;TZID=America/Chicago:20211010T200000
DTSTAMP:20260423T052404
CREATED:20210921T030247Z
LAST-MODIFIED:20210921T033728Z
UID:10001076-1633888800-1633896000@powerofcompassion.org
SUMMARY:NVC and Habits: A 12-Week Journey - Karen Starz\, MA\, MAEC\, CNVC Certified Trainer
DESCRIPTION:Join us for a 12-week supported journey through creating more life-serving habits. Increase self-awareness and explore your habits within the context of Nonviolent Communication. The exploration of habits will take place in a community of trust and includes the opportunity to select a package that offers one on one sessions with Karen Starz\, MA\, CNVC Certified Trainer\, as additional support outside of the group coursework.\n\nExpect to consciously integrate the work for two hours a week outside of the class sessions. The “work” however\, will aim to be fun\, relaxing\, playful\, energizing\, and full of curiosity around your own belief systems and thoughts. I choose to call it growth work and not homework! The aim is not to change habits although\, that will be a byproduct of the course. The aim is deep self-connection and connection to divine beloved energy.\n\nWe will meet together live\, in weekly group sessions beginning October 3rd\, 2021 from 6-8 pm Central Standard Time (CST).\n\n​We will not be meeting on the Sundays of Nov. 28th or Dec. 26th.\n\nWho is this program for?\nThis is open to anyone who would like to learn and have support while exploring habits and patterns that are no longer serving them.\nThese habits could be internal patterns\, such as thoughts or defense mechanisms\, or external behaviors like substance-related habits (this program could also be a meaningful companion to a 12-step or other recovery program).​\n\nLearn More & Register
URL:https://powerofcompassion.org/event/nvc-and-habits-a-12-week-journey-karen-starz-ma-maec-cnvc-certified-trainer/2021-10-10/
LOCATION:Zoom
ATTACH;FMTTYPE=image/jpeg:https://powerofcompassion.org/wp-content/uploads/2019/10/Karen-Starz-sq.jpg
ORGANIZER;CN="Karen Starz%2C MA%2C MAEC%2C CNVC Certified Trainer":MAILTO:starz.organizer@gmail.com
END:VEVENT
BEGIN:VEVENT
DTSTART;TZID=America/Chicago:20211013T190000
DTEND;TZID=America/Chicago:20211013T203000
DTSTAMP:20260423T052404
CREATED:20210210T004459Z
LAST-MODIFIED:20230112T214610Z
UID:10000310-1634151600-1634157000@powerofcompassion.org
SUMMARY:Heights Area/Houston: NVC Practice Group
DESCRIPTION:This peer-led study and practice group has been meeting since 2009.  It is open to everyone with a fundamental understanding of NVC\, by having read the book Nonviolent Communication: A Language of Life\, or who has attended an NVC weekend workshop. They meet every other week on Wednesdays in person and by Zoom from 7:00 p.m. – 8:30 p.m CT. \nPlease contact Heights NVC for the current meeting schedule and location.
URL:https://powerofcompassion.org/event/heights-area-houston-empathy-practice-group-moved-to-zoom-temporarily-sabrina-mahmood-3/2021-10-13/
END:VEVENT
BEGIN:VEVENT
DTSTART;TZID=America/Chicago:20211016T090000
DTEND;TZID=America/Chicago:20211016T103000
DTSTAMP:20260423T052404
CREATED:20210503T233759Z
LAST-MODIFIED:20250203T211803Z
UID:10000599-1634374800-1634380200@powerofcompassion.org
SUMMARY:Empathy Circle - Bren Hardt\, CNVC Certified Trainer
DESCRIPTION:Empathy\, also called “Attuned Listening”\, is both a gift to you and a gift to others. Empathy enlarges our understanding of ourselves and others and awakens compassion where judgment and separation once existed. I cannot imagine the needed world transformation happening without more of us developing our capacity for giving and receiving empathy. \nSo please join me\, Bren Hardt\, CNVC Certified Trainer\, and others in a community of practice on Zoom every Saturday\, 9 am to 10:30 am Central Time (Texas\, USA).  \nInvite your friends to join you. Periodic donations are appreciated on a gift economy basis. \nClick here to register!
URL:https://powerofcompassion.org/event/empathy-circle-bren-hardt/2021-10-16/
LOCATION:Zoom
ATTACH;FMTTYPE=image/png:https://powerofcompassion.org/wp-content/uploads/2019/10/hardt.png
END:VEVENT
BEGIN:VEVENT
DTSTART;TZID=America/Chicago:20211017T180000
DTEND;TZID=America/Chicago:20211017T200000
DTSTAMP:20260423T052404
CREATED:20210921T030247Z
LAST-MODIFIED:20210921T033728Z
UID:10001077-1634493600-1634500800@powerofcompassion.org
SUMMARY:NVC and Habits: A 12-Week Journey - Karen Starz\, MA\, MAEC\, CNVC Certified Trainer
DESCRIPTION:Join us for a 12-week supported journey through creating more life-serving habits. Increase self-awareness and explore your habits within the context of Nonviolent Communication. The exploration of habits will take place in a community of trust and includes the opportunity to select a package that offers one on one sessions with Karen Starz\, MA\, CNVC Certified Trainer\, as additional support outside of the group coursework.\n\nExpect to consciously integrate the work for two hours a week outside of the class sessions. The “work” however\, will aim to be fun\, relaxing\, playful\, energizing\, and full of curiosity around your own belief systems and thoughts. I choose to call it growth work and not homework! The aim is not to change habits although\, that will be a byproduct of the course. The aim is deep self-connection and connection to divine beloved energy.\n\nWe will meet together live\, in weekly group sessions beginning October 3rd\, 2021 from 6-8 pm Central Standard Time (CST).\n\n​We will not be meeting on the Sundays of Nov. 28th or Dec. 26th.\n\nWho is this program for?\nThis is open to anyone who would like to learn and have support while exploring habits and patterns that are no longer serving them.\nThese habits could be internal patterns\, such as thoughts or defense mechanisms\, or external behaviors like substance-related habits (this program could also be a meaningful companion to a 12-step or other recovery program).​\n\nLearn More & Register
URL:https://powerofcompassion.org/event/nvc-and-habits-a-12-week-journey-karen-starz-ma-maec-cnvc-certified-trainer/2021-10-17/
LOCATION:Zoom
ATTACH;FMTTYPE=image/jpeg:https://powerofcompassion.org/wp-content/uploads/2019/10/Karen-Starz-sq.jpg
ORGANIZER;CN="Karen Starz%2C MA%2C MAEC%2C CNVC Certified Trainer":MAILTO:starz.organizer@gmail.com
END:VEVENT
BEGIN:VEVENT
DTSTART;TZID=America/Chicago:20211023T090000
DTEND;TZID=America/Chicago:20211023T103000
DTSTAMP:20260423T052404
CREATED:20210503T233759Z
LAST-MODIFIED:20250203T211803Z
UID:10000600-1634979600-1634985000@powerofcompassion.org
SUMMARY:Empathy Circle - Bren Hardt\, CNVC Certified Trainer
DESCRIPTION:Empathy\, also called “Attuned Listening”\, is both a gift to you and a gift to others. Empathy enlarges our understanding of ourselves and others and awakens compassion where judgment and separation once existed. I cannot imagine the needed world transformation happening without more of us developing our capacity for giving and receiving empathy. \nSo please join me\, Bren Hardt\, CNVC Certified Trainer\, and others in a community of practice on Zoom every Saturday\, 9 am to 10:30 am Central Time (Texas\, USA).  \nInvite your friends to join you. Periodic donations are appreciated on a gift economy basis. \nClick here to register!
URL:https://powerofcompassion.org/event/empathy-circle-bren-hardt/2021-10-23/
LOCATION:Zoom
ATTACH;FMTTYPE=image/png:https://powerofcompassion.org/wp-content/uploads/2019/10/hardt.png
END:VEVENT
BEGIN:VEVENT
DTSTART;TZID=America/Chicago:20211024T180000
DTEND;TZID=America/Chicago:20211024T200000
DTSTAMP:20260423T052404
CREATED:20210921T030247Z
LAST-MODIFIED:20210921T033728Z
UID:10001078-1635098400-1635105600@powerofcompassion.org
SUMMARY:NVC and Habits: A 12-Week Journey - Karen Starz\, MA\, MAEC\, CNVC Certified Trainer
DESCRIPTION:Join us for a 12-week supported journey through creating more life-serving habits. Increase self-awareness and explore your habits within the context of Nonviolent Communication. The exploration of habits will take place in a community of trust and includes the opportunity to select a package that offers one on one sessions with Karen Starz\, MA\, CNVC Certified Trainer\, as additional support outside of the group coursework.\n\nExpect to consciously integrate the work for two hours a week outside of the class sessions. The “work” however\, will aim to be fun\, relaxing\, playful\, energizing\, and full of curiosity around your own belief systems and thoughts. I choose to call it growth work and not homework! The aim is not to change habits although\, that will be a byproduct of the course. The aim is deep self-connection and connection to divine beloved energy.\n\nWe will meet together live\, in weekly group sessions beginning October 3rd\, 2021 from 6-8 pm Central Standard Time (CST).\n\n​We will not be meeting on the Sundays of Nov. 28th or Dec. 26th.\n\nWho is this program for?\nThis is open to anyone who would like to learn and have support while exploring habits and patterns that are no longer serving them.\nThese habits could be internal patterns\, such as thoughts or defense mechanisms\, or external behaviors like substance-related habits (this program could also be a meaningful companion to a 12-step or other recovery program).​\n\nLearn More & Register
URL:https://powerofcompassion.org/event/nvc-and-habits-a-12-week-journey-karen-starz-ma-maec-cnvc-certified-trainer/2021-10-24/
LOCATION:Zoom
ATTACH;FMTTYPE=image/jpeg:https://powerofcompassion.org/wp-content/uploads/2019/10/Karen-Starz-sq.jpg
ORGANIZER;CN="Karen Starz%2C MA%2C MAEC%2C CNVC Certified Trainer":MAILTO:starz.organizer@gmail.com
END:VEVENT
BEGIN:VEVENT
DTSTART;TZID=America/Chicago:20211027T190000
DTEND;TZID=America/Chicago:20211027T203000
DTSTAMP:20260423T052404
CREATED:20210210T004459Z
LAST-MODIFIED:20230112T214610Z
UID:10000311-1635361200-1635366600@powerofcompassion.org
SUMMARY:Heights Area/Houston: NVC Practice Group
DESCRIPTION:This peer-led study and practice group has been meeting since 2009.  It is open to everyone with a fundamental understanding of NVC\, by having read the book Nonviolent Communication: A Language of Life\, or who has attended an NVC weekend workshop. They meet every other week on Wednesdays in person and by Zoom from 7:00 p.m. – 8:30 p.m CT. \nPlease contact Heights NVC for the current meeting schedule and location.
URL:https://powerofcompassion.org/event/heights-area-houston-empathy-practice-group-moved-to-zoom-temporarily-sabrina-mahmood-3/2021-10-27/
END:VEVENT
BEGIN:VEVENT
DTSTART;TZID=America/Chicago:20211030T090000
DTEND;TZID=America/Chicago:20211030T103000
DTSTAMP:20260423T052404
CREATED:20210503T233759Z
LAST-MODIFIED:20250203T211803Z
UID:10000601-1635584400-1635589800@powerofcompassion.org
SUMMARY:Empathy Circle - Bren Hardt\, CNVC Certified Trainer
DESCRIPTION:Empathy\, also called “Attuned Listening”\, is both a gift to you and a gift to others. Empathy enlarges our understanding of ourselves and others and awakens compassion where judgment and separation once existed. I cannot imagine the needed world transformation happening without more of us developing our capacity for giving and receiving empathy. \nSo please join me\, Bren Hardt\, CNVC Certified Trainer\, and others in a community of practice on Zoom every Saturday\, 9 am to 10:30 am Central Time (Texas\, USA).  \nInvite your friends to join you. Periodic donations are appreciated on a gift economy basis. \nClick here to register!
URL:https://powerofcompassion.org/event/empathy-circle-bren-hardt/2021-10-30/
LOCATION:Zoom
ATTACH;FMTTYPE=image/png:https://powerofcompassion.org/wp-content/uploads/2019/10/hardt.png
END:VEVENT
BEGIN:VEVENT
DTSTART;TZID=America/Chicago:20211031T180000
DTEND;TZID=America/Chicago:20211031T200000
DTSTAMP:20260423T052404
CREATED:20210921T030247Z
LAST-MODIFIED:20210921T033728Z
UID:10001079-1635703200-1635710400@powerofcompassion.org
SUMMARY:NVC and Habits: A 12-Week Journey - Karen Starz\, MA\, MAEC\, CNVC Certified Trainer
DESCRIPTION:Join us for a 12-week supported journey through creating more life-serving habits. Increase self-awareness and explore your habits within the context of Nonviolent Communication. The exploration of habits will take place in a community of trust and includes the opportunity to select a package that offers one on one sessions with Karen Starz\, MA\, CNVC Certified Trainer\, as additional support outside of the group coursework.\n\nExpect to consciously integrate the work for two hours a week outside of the class sessions. The “work” however\, will aim to be fun\, relaxing\, playful\, energizing\, and full of curiosity around your own belief systems and thoughts. I choose to call it growth work and not homework! The aim is not to change habits although\, that will be a byproduct of the course. The aim is deep self-connection and connection to divine beloved energy.\n\nWe will meet together live\, in weekly group sessions beginning October 3rd\, 2021 from 6-8 pm Central Standard Time (CST).\n\n​We will not be meeting on the Sundays of Nov. 28th or Dec. 26th.\n\nWho is this program for?\nThis is open to anyone who would like to learn and have support while exploring habits and patterns that are no longer serving them.\nThese habits could be internal patterns\, such as thoughts or defense mechanisms\, or external behaviors like substance-related habits (this program could also be a meaningful companion to a 12-step or other recovery program).​\n\nLearn More & Register
URL:https://powerofcompassion.org/event/nvc-and-habits-a-12-week-journey-karen-starz-ma-maec-cnvc-certified-trainer/2021-10-31/
LOCATION:Zoom
ATTACH;FMTTYPE=image/jpeg:https://powerofcompassion.org/wp-content/uploads/2019/10/Karen-Starz-sq.jpg
ORGANIZER;CN="Karen Starz%2C MA%2C MAEC%2C CNVC Certified Trainer":MAILTO:starz.organizer@gmail.com
END:VEVENT
END:VCALENDAR